BEGIN:VCALENDAR
VERSION:2.0
PRODID:-//CCAFCB - ECPv6.6.1//NONSGML v1.0//EN
CALSCALE:GREGORIAN
METHOD:PUBLISH
X-WR-CALNAME:CCAFCB
X-ORIGINAL-URL:https://www.ccafcb.com
X-WR-CALDESC:Events for CCAFCB
REFRESH-INTERVAL;VALUE=DURATION:PT1H
X-Robots-Tag:noindex
X-PUBLISHED-TTL:PT1H
BEGIN:VTIMEZONE
TZID:America/Vancouver
BEGIN:DAYLIGHT
TZOFFSETFROM:-0800
TZOFFSETTO:-0700
TZNAME:PDT
DTSTART:20260308T100000
END:DAYLIGHT
BEGIN:STANDARD
TZOFFSETFROM:-0700
TZOFFSETTO:-0800
TZNAME:PST
DTSTART:20261101T090000
END:STANDARD
END:VTIMEZONE
BEGIN:VEVENT
DTSTART;TZID=America/Vancouver:20260531T140000
DTEND;TZID=America/Vancouver:20260531T150000
DTSTAMP:20260421T002720
CREATED:20260409T213553Z
LAST-MODIFIED:20260409T213553Z
UID:33312-1780236000-1780239600@www.ccafcb.com
SUMMARY:FESTIVAL D'ÉTÉ I Kalimba | Spectacle jeunesse
DESCRIPTION:  \nUn moment complice et lumineux à partager en famille avec Kalimba\, dans un spectacle où musique\, jeu et imagination s’entrelacent avec bonheur. Entre rythmes entraînants et instants poétiques\, cette aventure invite petits et grands à un voyage joyeux et rassembleur.
URL:https://www.ccafcb.com/classes/festival-dete-i-kalimba-spectacle-jeunesse/
LOCATION:Studio 16\, 1551 W 7th Avenue\, Vancouver\, Colombie-Britannique\, V6J 1S1\, Canada
CATEGORIES:Spectacle
ATTACH;FMTTYPE=image/jpeg:https://www.ccafcb.com/wp-content/uploads/2026/04/Banniere-FEFV26-1920-x-1080-px-5-Le-Centre-Culturel.jpg
END:VEVENT
END:VCALENDAR