BEGIN:VCALENDAR
VERSION:2.0
PRODID:-//CCAFCB - ECPv6.6.1//NONSGML v1.0//EN
CALSCALE:GREGORIAN
METHOD:PUBLISH
X-WR-CALNAME:CCAFCB
X-ORIGINAL-URL:https://www.ccafcb.com
X-WR-CALDESC:Events for CCAFCB
REFRESH-INTERVAL;VALUE=DURATION:PT1H
X-Robots-Tag:noindex
X-PUBLISHED-TTL:PT1H
BEGIN:VTIMEZONE
TZID:America/Vancouver
BEGIN:DAYLIGHT
TZOFFSETFROM:-0800
TZOFFSETTO:-0700
TZNAME:PDT
DTSTART:20260308T100000
END:DAYLIGHT
BEGIN:STANDARD
TZOFFSETFROM:-0700
TZOFFSETTO:-0800
TZNAME:PST
DTSTART:20261101T090000
END:STANDARD
END:VTIMEZONE
BEGIN:VEVENT
DTSTART;TZID=America/Vancouver:20260409T103000
DTEND;TZID=America/Vancouver:20260411T130000
DTSTAMP:20260419T232911
CREATED:20260401T205500Z
LAST-MODIFIED:20260401T205500Z
UID:33242-1775730600-1775912400@www.ccafcb.com
SUMMARY:THÉÂTRE JEUNESSE I Grande Ourse - Petite Ourse
DESCRIPTION:  \n« Grande Ourse – Petite Ourse » est actuellement en visite près de chez vous. De sa toute dernière résidence jusqu’à sa grande première officielle\, l’équipe de Foolish Operations invite les tout-petits explorateurs âgés de 6 à 24 mois et leurs familles à se joindre à cette expérience artistique sous les étoiles. \nCentre communautaire de Clayton\, Surrey\, C.-B. \nDates : 9\, 10 et 11 avrilHeures : 10 h 30 et 12 h 30 (presque complet) \nUne rencontre destinée aux professionnel·les travaillant dans des pratiques créatives avec de jeunes enfants et leurs familles aura également lieu le 10 avril à 13 h 30\, en présence de l’artiste invitée Queen Aunty Jacky Essombé. Les personnes intéressées sont invitées à s’inscrire.
URL:https://www.ccafcb.com/classes/theatre-jeunesse-i-grande-ourse-petite-ourse/
LOCATION:Colombie-Britannique
CATEGORIES:Spectacle
ATTACH;FMTTYPE=image/jpeg:https://www.ccafcb.com/wp-content/uploads/2026/04/grande-ours-petite-ours.jpg
END:VEVENT
BEGIN:VEVENT
DTSTART;TZID=America/Vancouver:20260328T160000
DTEND;TZID=America/Vancouver:20260328T180000
DTSTAMP:20260419T232911
CREATED:20260305T182920Z
LAST-MODIFIED:20260305T182920Z
UID:33001-1774713600-1774720800@www.ccafcb.com
SUMMARY:RENDEZ-VOUS DES FAMILLES | CINEMA | Mary Anning
DESCRIPTION:  \nDécouvrez la projection d’un film pour tous les âges ! \nEn 1811\, Mary Anning\, 12 ans\, passionnée de fossiles\, explore chaque jour le bord de mer depuis la disparition de son père\, qui lui a transmis cet amour des pierres anciennes. Lorsqu’il laisse derrière lui un mystérieux dessin\, Mary se lance à la fois pour aider sa famille et percer son secret. Au fil de son aventure\, elle découvre bien plus que des fossiles : des amitiés inattendues et les débuts de la paléontologie. \nEn français sous-titré anglais \nCet évènement est présenté par l’ Alliance Française Vancouver\, Visions Ouest Productions et le Bureau des affaires francophones et francophiles (BAFF) de SFU\, Le Printemps de la Francophonie\, l’Ambassade Suisse Avec le soutien de Canadian Parents for French et la Fédération des Parents Francophone de la C-B. \nGratuit
URL:https://www.ccafcb.com/classes/rendez-vous-des-familles-cinema-mary-anning/
LOCATION:Alliance Française Vancouver\, 6161 Cambie Street\, Vancouver\, Colombie-Britannique\, V5Z 3B2\, Canada
CATEGORIES:Projection de film ou documentaire
ATTACH;FMTTYPE=image/png:https://www.ccafcb.com/wp-content/uploads/2026/03/RDVDF-BAFF-Alliance-Francaise.png
ORGANIZER;CN="Alliance Fran%C3%A7aise Vancouver":MAILTO:info@alliancefrancaise.ca
END:VEVENT
BEGIN:VEVENT
DTSTART;TZID=America/Vancouver:20260328T110000
DTEND;TZID=America/Vancouver:20260328T120000
DTSTAMP:20260419T232911
CREATED:20260313T213722Z
LAST-MODIFIED:20260313T213722Z
UID:33099-1774695600-1774699200@www.ccafcb.com
SUMMARY:RENDEZ-VOUS DES FAMILLES | Atelier chanson avec Myriam Gendron
DESCRIPTION:  \nL’atelier: Création d’une chanson Venez arranger une chanson traditionnelle francophone à travers un atelier ouvert à tous les niveaux et guidé par l’artiste Myriam Gendron (Montréal). \nAu programme : chants et création musicale par des approches originales (tubes à vents\, enregistrements de bruits dans la salle\, mouvement\, voix). Ensemble\, vous créerez une pièce unique. Myriam Gendron est une artiste montréalaise. Avant son premier album\, Myriam se produisait principalement dans les stations de métro\, interprétant des chansons de Leonard Cohen et d’autres artistes\, en s’accompagnant à la guitare. Son premier album\, acclamé par la critique\, a été créé pour accompagner une série de poèmes. Myriam explore les traditions folkloriques complexes du Québec\, en combinant des chansons traditionnelles et originales avec des interludes musicaux avant-gardistes. \n\n\n\n\n\n\n\n\n\n\n\n\n\n– Parents et enfants à partir de 5 ans (tout niveau de francais). Les enfants doivent être accompagnés d’un adulte. Merci de prendre une place par personne.\n\n– Découvrez Myriam Gendron et Francis Baptiste en concert\, le vendredi 27 mars\, à Alliance Française Vancouver.\n\nCet évènement est présenté par l’ Alliance Française Vancouver et Barking Sphynx –  Avec le soutien du Gouvernement du Québec\, British Columbia Arts Council\, Act·art·mgt et Le centre culturel francophone de Vancouver.
URL:https://www.ccafcb.com/classes/rendez-vous-des-familles-atelier-chanson-avec-myriam-gendron/
LOCATION:Alliance Française Vancouver\, 6161 Cambie Street\, Vancouver\, Colombie-Britannique\, V5Z 3B2\, Canada
CATEGORIES:Événement musical
ATTACH;FMTTYPE=image/png:https://www.ccafcb.com/wp-content/uploads/2026/03/RDVDF-Chanson-1-Alliance-Francaise.png
ORGANIZER;CN="Alliance Fran%C3%A7aise Vancouver":MAILTO:info@alliancefrancaise.ca
END:VEVENT
BEGIN:VEVENT
DTSTART;TZID=America/Vancouver:20260328T103000
DTEND;TZID=America/Vancouver:20260328T120000
DTSTAMP:20260419T232911
CREATED:20260316T214136Z
LAST-MODIFIED:20260316T214136Z
UID:33114-1774693800-1774699200@www.ccafcb.com
SUMMARY:CINÉMA I Wapos Bay - Jouer pour soi\, c'est pas du hockey
DESCRIPTION:  \nÀ l’occasion du Mois de la Francophonie et des Rendez-vous de la Francophonie (RVF)\, le CCFO vous propose d’assister à la projection gratuite de plusieurs films en mars. \nLe samedi 28 mars de 10h30 à 11h (ouverture des portes à 10h) au CCFO\, 702 Bernard Ave:\nWapos Bay – Jouer pour soi\, c’est pas hockey | Dennis Jackson | 2005 | 24 min \nCe court-métrage explore les dilemmes de l’esprit d’équipe et de la compétition dans une communauté autochtone. \nLa projection sera suivie d’une chasse aux œufs à 11h dans la bibliothèque!
URL:https://www.ccafcb.com/classes/cinema-i-wapos-bay-jouer-pour-soi-cest-pas-du-hockey/
LOCATION:Centre culturel francophone de l’Okanagan
CATEGORIES:Projection de film ou documentaire
ATTACH;FMTTYPE=image/png:https://www.ccafcb.com/wp-content/uploads/2026/03/28032026_Sur-la-glace-et-dans-les-bois_-le-sport-comme-culture_500x500a.png
ORGANIZER;CN="Le Centre culturel francophone de l'Okanagan":MAILTO:info@leccfo.org
END:VEVENT
BEGIN:VEVENT
DTSTART;TZID=America/Vancouver:20260327T193000
DTEND;TZID=America/Vancouver:20260327T213000
DTSTAMP:20260419T232911
CREATED:20260220T225512Z
LAST-MODIFIED:20260220T225512Z
UID:32938-1774639800-1774647000@www.ccafcb.com
SUMMARY:CONCERT | Myriam Gendron\, Francis Baptiste
DESCRIPTION:  \nUn concert exceptionnel dans une atmosphère intimiste\, invitant le public à écouter des chansons dans leur forme la plus simple : voix et guitare. Une exploration sensible sur comment jouer et déjouer les mélodies traditionnelles et les codes habituels de la chanson. Une soirée calme et douce\, tout en harmonie. \nL’artiste québécoise Myriam Gendron revisite les traditions folk en réarrangeant des chansons anciennes auxquelles elle insuffle une touche contemporaine. Sa voix remarquable se mêle à un jeu de guitare en finger-picking et à des sonorités d’avant-garde. Lors d’un rare passage à Vancouver\, elle jouera des chansons issues de ses trois albums. \nEn ouverture\, Francis Baptiste\, artiste autochtone basé à Vancouver\, explorera des thèmes tels que la réclamation culturelle\, l’addiction et la paternité. \nCe concert est présenté en partenariat dans le cadre de Unwritten Weekend\, un nouveau festival dont la deuxième édition célèbre la musique\, l’art et la créativité. Du 27 au 29 mars\, le festival propose trois jours de programmation variée répartie dans quatre lieux à Vancouver : The Hargrove\, Red Gate\, 8East et l’Alliance Française de Vancouver. Avec une sélection d’événements gratuits\, d’expositions d’art\, d’ateliers et de concerts\, il y en a pour tous les goûts.
URL:https://www.ccafcb.com/classes/concert-myriam-gendron-francis-baptiste/
LOCATION:Alliance Française Vancouver\, 6161 Cambie Street\, Vancouver\, Colombie-Britannique\, V5Z 3B2\, Canada
CATEGORIES:Événement musical
ATTACH;FMTTYPE=image/png:https://www.ccafcb.com/wp-content/uploads/2026/02/AFV_TEMPLATE_EVENT_SITE-ONCORD_2026-23-Alliance-Francaise.png
ORGANIZER;CN="Alliance Fran%C3%A7aise Vancouver":MAILTO:info@alliancefrancaise.ca
END:VEVENT
BEGIN:VEVENT
DTSTART;TZID=America/Vancouver:20260326T180000
DTEND;TZID=America/Vancouver:20260326T200000
DTSTAMP:20260419T232911
CREATED:20260325T180802Z
LAST-MODIFIED:20260325T180802Z
UID:33204-1774548000-1774555200@www.ccafcb.com
SUMMARY:Soirée culturelle I L'âme francophone
DESCRIPTION:  \nDans le cadre de We Create Penticton\, soutenu par le CCFO\, le Penticton Arts Council et le Ignite the Arts Festival\, le restaurant Crêperie Ooolala à Penticton accueille la soirée culturelle et artistique « L’âme francophone ». \nAu programme : Élodie Orsei (chant\, Kelowna)\, Naomi Steinberg (conte\, Vancouver) et Vincent Decowans (chant\, Cawston). Les trois artistes proposeront une rencontre entre chansons francophones\, récits et variété pour célébrer la richesse de la culture francophone dans la région.
URL:https://www.ccafcb.com/classes/soiree-culturelle-i-lame-francophone/
LOCATION:Colombie-Britannique
CATEGORIES:Événement musical
ATTACH;FMTTYPE=image/jpeg:https://www.ccafcb.com/wp-content/uploads/2026/03/lame-francophone.jpg
ORGANIZER;CN="Le Centre culturel francophone de l'Okanagan":MAILTO:info@leccfo.org
END:VEVENT
BEGIN:VEVENT
DTSTART;TZID=America/Vancouver:20260325T130000
DTEND;TZID=America/Vancouver:20260325T180000
DTSTAMP:20260419T232911
CREATED:20260316T214701Z
LAST-MODIFIED:20260316T214701Z
UID:33118-1774443600-1774461600@www.ccafcb.com
SUMMARY:VENTE DE LIVRES ET DE CRÊPES
DESCRIPTION:  \nLe mercredi 25 mars\, de 13 h à 18 h\, le Centre culturel francophone de Vancouver organise une après-midi conviviale alliant plaisir de la lecture et gourmandise.Devant le Centre culturel\, la vente de livres permettra aux visiteurs de découvrir de nouvelles lectures tout en soutenant une belle initiative. Les ouvrages seront proposés sur la base d’une donation\, avec un minimum de 2 $ par livre.Pour accompagner ces découvertes littéraires\, Bretonne Vancouver sera présente afin de régaler les participants avec une délicieuse sélection de crêpes salées et sucrées\, préparées selon la tradition bretonne.
URL:https://www.ccafcb.com/classes/vente-de-livres-et-de-crepes/
LOCATION:Le Centre culturel francophone de Vancouver\, 1551 7e Avenue Ouest\, Vancouver\, Colombie-Britannique\, V6J 1S1\, Canada
CATEGORIES:Autre
ATTACH;FMTTYPE=image/jpeg:https://www.ccafcb.com/wp-content/uploads/2026/03/Le-centre_vente-livres.jpg
END:VEVENT
BEGIN:VEVENT
DTSTART;TZID=America/Vancouver:20260323T183000
DTEND;TZID=America/Vancouver:20260323T193000
DTSTAMP:20260419T232911
CREATED:20260316T232703Z
LAST-MODIFIED:20260316T232703Z
UID:33131-1774290600-1774294200@www.ccafcb.com
SUMMARY:CONFÉRENCE I Conversation avec Marie Khouri
DESCRIPTION:  \nPour célébrer la fin de l’exposition L’Art public : de la maquette au territoire\, l’Alliance Française Vancouver propose une conférence exceptionnelle dédiée à l’art public et à la pratique de la sculptrice franco-canadienne Marie Khouri. \nLes intervenants : Marie Khouri\, Nader Malek (Millennium)\, Larry Beasley\, et James Cheng\, pour une discussion modérée par Nina Malekyazdi. \nGratuit\, sur inscription.
URL:https://www.ccafcb.com/classes/conference-i-conversation-avec-marie-khouri/
LOCATION:Alliance Française Vancouver\, 6161 Cambie Street\, Vancouver\, Colombie-Britannique\, V5Z 3B2\, Canada
CATEGORIES:Conférence ou rencontre
ATTACH;FMTTYPE=image/png:https://www.ccafcb.com/wp-content/uploads/2026/03/Marie-Kouri-conference.png
ORGANIZER;CN="Alliance Fran%C3%A7aise Vancouver":MAILTO:info@alliancefrancaise.ca
END:VEVENT
BEGIN:VEVENT
DTSTART;TZID=America/Vancouver:20260321T193000
DTEND;TZID=America/Vancouver:20260321T200000
DTSTAMP:20260419T232911
CREATED:20260205T225444Z
LAST-MODIFIED:20260205T225444Z
UID:32748-1774121400-1774123200@www.ccafcb.com
SUMMARY:THEATRE | Un Barrage contre le Pacifique
DESCRIPTION:  \nAdaptation du roman de Marguerite Duras par Maud Andrieux\, cette pièce raconte la lutte d’une mère française dans l’Indochine des années 30\, déterminée à préserver ses cultures contre l’avancée des eaux. Une histoire de résistance face à l’injustice\, mais aussi un appel à agir\, et à poursuivre ses rêves. \n– Pièce en français avec surtirtrage en anglais \nEn tournée dans le réseau des Alliances Françaises du Canada (Toronto\, Halifax\, Montréal\, Ottawa\, Edmonton\, Calgary\, et Vancouver). Une tournée pilotée par l’Alliance Française Toronto \nCet évènement est présenté par l’ Alliance Française Vancouver avec le soutien de Banque of Montreal\, Fondation DRG et Ambassade de France au Canada.
URL:https://www.ccafcb.com/classes/theatre-un-barrage-contre-le-pacifique/
LOCATION:Alliance Française Vancouver\, 6161 Cambie Street\, Vancouver\, Colombie-Britannique\, V5Z 3B2\, Canada
CATEGORIES:Théâtre
ATTACH;FMTTYPE=image/png:https://www.ccafcb.com/wp-content/uploads/2026/02/Barrage-contre-le-pacifique-Alliance-Francaise.png
ORGANIZER;CN="Alliance Fran%C3%A7aise Vancouver":MAILTO:info@alliancefrancaise.ca
END:VEVENT
BEGIN:VEVENT
DTSTART;TZID=America/Vancouver:20260301T080000
DTEND;TZID=America/Vancouver:20260402T170000
DTSTAMP:20260419T232911
CREATED:20260218T003713Z
LAST-MODIFIED:20260218T003713Z
UID:32893-1772352000-1775149200@www.ccafcb.com
SUMMARY:Printemps de la francophonie de SFU
DESCRIPTION:  \nDu 1er mars au 2 avril 2026\, le Bureau des affaires francophones et francophiles (BAFF) de l’Université Simon Fraser (SFU) vous invite à participer gratuitement à une série d’activités culturelles\, académiques et sociales en français\, dans le Grand Vancouver et en ligne\, lors de la 16e édition du Printemps de la francophonie de SFU. \nAu cœur de la programmation cette année\, vous retrouvez les tant attendus Moments Cinéma. Trois films seront présentés en salle : Mille secrets mille dangers\, de Philippe Farlardeau (5 mars)\, La Cache de Lionel Baier (12 mars) et enfin Mary Anning (28 mars)\, un film jeunesse pour les familles.
URL:https://www.ccafcb.com/classes/printemps-de-la-francophonie-de-sfu/
LOCATION:Colombie-Britannique
CATEGORIES:Festival
ATTACH;FMTTYPE=image/jpeg:https://www.ccafcb.com/wp-content/uploads/2026/02/printemps-de-la-francophonie-SFU.jpg
END:VEVENT
BEGIN:VEVENT
DTSTART;TZID=America/Vancouver:20260228T120000
DTEND;TZID=America/Vancouver:20260323T160000
DTSTAMP:20260419T232911
CREATED:20260217T230711Z
LAST-MODIFIED:20260217T230913Z
UID:32876-1772280000-1774281600@www.ccafcb.com
SUMMARY:EXPOSITION I L'art public : formes\, langage et mémoire partagée par Marie Khouri
DESCRIPTION:  \nAlliance Française Vancouver accueille une exposition consacrée à la pratique de l’art public de Marie Khouri\, sculptrice franco-canadienne dont plus de trente œuvres permanentes jalonnent aujourd’hui l’espace public en Colombie-Britannique. \nPensée comme une traversée entre l’intime et le collectif\, cette exposition dévoile les maquettes originales de nombreuses œuvres monumentales réalisées pour des places publiques\, des institutions culturelles\, des universités et des quartiers urbains. Habituellement invisibles au public\, ces maquettes constituent la matrice de l’œuvre : elles sont le lieu de la première intention\, du geste fondateur\, de la recherche formelle et symbolique. \nÀ travers ces sculptures à échelle réduite\, le visiteur est invité à entrer dans le processus de création de l’art public\, un art qui dialogue avec l’architecture\, le paysage\, les usages sociaux et la mémoire des lieux. Chaque projet naît d’une écoute attentive du site et de celles et ceux qui l’habitent\, transformant la sculpture en un espace de rencontre\, de repos\, de langage et de partage. \nUn écran interactif complète l’exposition et permet de suivre le parcours des œuvres depuis l’atelier jusqu’à leur implantation finale : dessins préparatoires\, modélisations\, images d’installations\, interventions performatives\, ainsi que les multiples vies que ces sculptures prennent une fois offertes au public. Loin d’être figées\, elles deviennent des lieux vécus\, activés par les corps\, les langues et les récits. \nAncrée entre Vancouver\, Paris et le bassin méditerranéen\, la pratique de Marie Khouri interroge les notions de territoire\, d’identité et de transmission. Ses formes\, proposent un langage sculptural accessible à tous\, au-delà des frontières culturelles et linguistiques. \nCette exposition invite à porter un regard renouvelé sur l’art public : non pas comme un objet monumental imposé\, mais comme un acte de lien\, un espace de respiration dans la ville\, et une œuvre vivante qui appartient à celles et ceux qui la rencontrent.
URL:https://www.ccafcb.com/classes/exoisition-i-lart-public-formes-langage-et-memoire-partagee-par-marie-khouri/
LOCATION:Alliance Française Vancouver\, 6161 Cambie Street\, Vancouver\, Colombie-Britannique\, V5Z 3B2\, Canada
CATEGORIES:Exposition
ATTACH;FMTTYPE=image/png:https://www.ccafcb.com/wp-content/uploads/2026/02/Marie-Khouri.png
ORGANIZER;CN="Alliance Fran%C3%A7aise Vancouver":MAILTO:info@alliancefrancaise.ca
END:VEVENT
BEGIN:VEVENT
DTSTART;TZID=America/Vancouver:20260228T080000
DTEND;TZID=America/Vancouver:20260415T170000
DTSTAMP:20260419T232911
CREATED:20260220T230028Z
LAST-MODIFIED:20260220T230028Z
UID:32942-1772265600-1776272400@www.ccafcb.com
SUMMARY:CINÉMA I Festival Écrans/Scènes
DESCRIPTION:  \nRéseau franco a le plaisir de vous annoncer le lancement de la 2e édition du festival Écrans/Scènes !\nDu 26 février au 15 avril\, venez assister à des projections de films et représentations théâtrales\, des discussions autour des œuvres\, et des ateliers.
URL:https://www.ccafcb.com/classes/cinema-i-festival-ecrans-scenes/
LOCATION:Université de Victoria\, Victoria\, Canada
CATEGORIES:Projection de film ou documentaire
ATTACH;FMTTYPE=image/jpeg:https://www.ccafcb.com/wp-content/uploads/2026/02/Ecrans-scenes.jpg
END:VEVENT
END:VCALENDAR